BEGIN:VCALENDAR
PRODID:-//eluceo/ical//2.0/EN
VERSION:2.0
CALSCALE:GREGORIAN
BEGIN:VEVENT
UID:cc567e0dadc0b0522e68e706862656c3
DTSTAMP:20260419T185403Z
SUMMARY:Tisha Bav
DESCRIPTION:Jewish Federation of the Greater San Gabriel & Pomona Valleys\n
 COMMUNITY CALENDAR\nhttps://jewishsgpv.org/calendar/tishabavmorning\n\n
DTSTART;TZID=America/Los_Angeles:20230727T073000
DTEND;TZID=America/Los_Angeles:20230727T090000
END:VEVENT
END:VCALENDAR
