BEGIN:VCALENDAR
PRODID:-//eluceo/ical//2.0/EN
VERSION:2.0
CALSCALE:GREGORIAN
BEGIN:VEVENT
UID:81e9970ef905ba0e16c0a69cf5f25f0d
DTSTAMP:20260419T211221Z
SUMMARY:The Kumzitz with Mickey Adelman and Rabbi Ira
DESCRIPTION:Jewish Federation of the Greater San Gabriel & Pomona Valleys\n
 COMMUNITY CALENDAR\nhttps://jewishsgpv.org/calendar/the-kumzitz-with-micke
 y-adelman-and-rabbi-ira\n\n
DTSTART;TZID=America/Los_Angeles:20250425T193000
DTEND;TZID=America/Los_Angeles:20250425T210000
END:VEVENT
END:VCALENDAR
