BEGIN:VCALENDAR
PRODID:-//eluceo/ical//2.0/EN
VERSION:2.0
CALSCALE:GREGORIAN
BEGIN:VEVENT
UID:c7b567b21602b5931e72cb846a4ed7d2
DTSTAMP:20260424T073310Z
SUMMARY:The Folk Experience - Temple Beth David
DESCRIPTION:Jewish Federation of the Greater San Gabriel & Pomona Valleys\n
 COMMUNITY CALENDAR\nhttps://jewishsgpv.org/calendar/the-folk-experience-te
 mple-beth-david\n\n
DTSTART;TZID=America/Los_Angeles:20211114T190000
DTEND;TZID=America/Los_Angeles:20211114T210000
END:VEVENT
END:VCALENDAR
