BEGIN:VCALENDAR
PRODID:-//eluceo/ical//2.0/EN
VERSION:2.0
CALSCALE:GREGORIAN
BEGIN:VEVENT
UID:13928e92275f8803de3f3a93dd48bee3
DTSTAMP:20260425T161448Z
SUMMARY:The Diary of Anne Frank - Staged Reading
DESCRIPTION:Jewish Federation of the Greater San Gabriel & Pomona Valleys\n
 COMMUNITY CALENDAR\nhttps://jewishsgpv.org/calendar/the-diary-of-anne-fran
 k-staged-reading\n\nClick here to buy tickets
DTSTART;TZID=America/Los_Angeles:20220418T193000
DTEND;TZID=America/Los_Angeles:20220418T210000
END:VEVENT
END:VCALENDAR
