BEGIN:VCALENDAR
PRODID:-//eluceo/ical//2.0/EN
VERSION:2.0
CALSCALE:GREGORIAN
BEGIN:VEVENT
UID:8c2e613430a037837c938f507a6ac791
DTSTAMP:20260423T125831Z
SUMMARY:Temple B'nai Emet Shabbat Zoom Minyan
DESCRIPTION:Jewish Federation of the Greater San Gabriel & Pomona Valleys\n
 COMMUNITY CALENDAR\nhttps://jewishsgpv.org/calendar/temple-bnai-emet-shabb
 at-zoom-minyan\n\nBnai Emet Shabbat Zoom Minyan\n\nSheldon Pennes is invit
 ing you to a scheduled Zoom meeting.\nJoin Zoom Meeting\nhttps://zoom.us/j
 /370899257\n\nMeeting ID: 370 899 257\n\nOne tap mobile\n+16699006833\,\,3
 70899257# US (San Jose)\n+13462487799\,\,370899257# US (Houston)\n\nDial b
 y your location\n+1 669 900 6833 US (San Jose)\n+1 346 248 7799 US (Housto
 n)\n+1 929 205 6099 US (New York)\n+1 253 215 8782 US\n+1 301 715 8592 US\
 n+1 312 626 6799 US (Chicago)\nMeeting ID: 370 899 257\nFind your local nu
 m...
DTSTART;TZID=America/Los_Angeles:20200425T100000
DTEND;TZID=America/Los_Angeles:20200425T113000
END:VEVENT
END:VCALENDAR
