BEGIN:VCALENDAR
PRODID:-//eluceo/ical//2.0/EN
VERSION:2.0
CALSCALE:GREGORIAN
BEGIN:VEVENT
UID:0e76ce71f4f30722f112a5d99c27e3e0
DTSTAMP:20260423T074546Z
SUMMARY:Bagel Breakfast - Temple Beth David
DESCRIPTION:Jewish Federation of the Greater San Gabriel & Pomona Valleys\n
 COMMUNITY CALENDAR\nhttps://jewishsgpv.org/calendar/temple-beth-david-of-t
 he-san-gabriel-valley-bagel-breakfast\n\nTemple Beth David of the San Gabr
 iel Valley Adult Education presents a Bagel Breakfast on Sunday September 
 22\, 2024.  It will be from 9:30AM - 12:30PM so please stop by Be Inform
 ed ~Your Vote Counts!\n\nLearn about the pros and cons of the CA propositi
 ons on the November 2024 Ballot with a speaker from the League of Women Vo
 ters.  This will be in person and on Zoom.\n\nZoom link: https://us02web
 .zoom.us/j/83782493587\n\n \n\nBagel Breakfast at 9\;30AM\n\nSpeaker at 1
 0:00AM\n\nSuggested don...
DTSTART;TZID=America/Los_Angeles:20240922T093000
DTEND;TZID=America/Los_Angeles:20240922T123000
END:VEVENT
END:VCALENDAR
