BEGIN:VCALENDAR
PRODID:-//eluceo/ical//2.0/EN
VERSION:2.0
CALSCALE:GREGORIAN
BEGIN:VEVENT
UID:b6d4d6af53d6997b951334643da29c0f
DTSTAMP:20260419T160335Z
SUMMARY:Summer Fun Series 2024 at Temple Beth David           of San Gabrie
 l Valley
DESCRIPTION:Jewish Federation of the Greater San Gabriel & Pomona Valleys\n
 COMMUNITY CALENDAR\nhttps://jewishsgpv.org/calendar/temple-beth-david-of-s
 an-gabriel-valley-summer-fun-series-2024\n\nJoin the 1st Annual Summer Fun
  Series at Temple Beth David on July 13\, 2024\, at 6:30 PM. This event is
  hosted by Rabbi Ira Rosenfeld and features great performers\, a magician\
 , and more.\n\n \n\nTickets are $18\, and children under 13 are half-pric
 e.  There will be food and drinks for all ages available for purchase.
DTSTART;TZID=America/Los_Angeles:20240713T183000
DTEND;TZID=America/Los_Angeles:20240713T213000
END:VEVENT
END:VCALENDAR
