BEGIN:VCALENDAR
PRODID:-//eluceo/ical//2.0/EN
VERSION:2.0
CALSCALE:GREGORIAN
BEGIN:VEVENT
UID:0421875b060d6299806205512a010e0f
DTSTAMP:20260423T084446Z
SUMMARY:Temple Beth David of San Gabriel Valley Bagel Breakfast
DESCRIPTION:Jewish Federation of the Greater San Gabriel & Pomona Valleys\n
 COMMUNITY CALENDAR\nhttps://jewishsgpv.org/calendar/temple-beth-david-of-s
 an-gabriel-valley-bagel-breakfast\n\nTemple Beth David Adult Education inv
 ites you to a Special Bagel Breakfast on October 27\, 2024 at 9:30AM. \n\n
 \nSuggested Donations $10 to support Hadassah Medical Organization.
DTSTART;TZID=America/Los_Angeles:20241027T093000
DTEND;TZID=America/Los_Angeles:20241027T113000
END:VEVENT
END:VCALENDAR
