BEGIN:VCALENDAR
PRODID:-//eluceo/ical//2.0/EN
VERSION:2.0
CALSCALE:GREGORIAN
BEGIN:VEVENT
UID:085f46c243103f339eb96ed7801f0754
DTSTAMP:20260426T003842Z
SUMMARY:Sisterhood Hanukkah & Gift Boutique at Temple Beth David
DESCRIPTION:Jewish Federation of the Greater San Gabriel & Pomona Valleys\n
 COMMUNITY CALENDAR\nhttps://jewishsgpv.org/calendar/temple-beth-david-of-s
 an-gabriel-sisterhood-hanukkah-gift-boutique\n\nThe Sisterhood Hanukkah an
 d Gift Boutique committee is planning another fabulous fundraiser at the T
 emple Beth David on November 24\, 2024. It will be from 9:00AM - 1:00PM wi
 th some amazing vendors showcasing their products To be purchased. This is
  a free event so bring your family and friends.\n\n\nThere will be a bake 
 sale as well.
DTSTART;TZID=America/Los_Angeles:20241124T090000
DTEND;TZID=America/Los_Angeles:20241124T130000
END:VEVENT
END:VCALENDAR
