BEGIN:VCALENDAR
PRODID:-//eluceo/ical//2.0/EN
VERSION:2.0
CALSCALE:GREGORIAN
BEGIN:VEVENT
UID:220a3c3214dca73161c5646d1d676595
DTSTAMP:20260420T141230Z
SUMMARY:Temple Beth David | FUNdraising Concert
DESCRIPTION:Jewish Federation of the Greater San Gabriel & Pomona Valleys\n
 COMMUNITY CALENDAR\nhttps://jewishsgpv.org/calendar/temple-beth-david-fund
 raising-concert\n\n
DTSTART;TZID=America/Los_Angeles:20210117T190000
DTEND;TZID=America/Los_Angeles:20210117T210000
END:VEVENT
END:VCALENDAR
