BEGIN:VCALENDAR
PRODID:-//eluceo/ical//2.0/EN
VERSION:2.0
CALSCALE:GREGORIAN
BEGIN:VEVENT
UID:a4983f2f97ccadc1b1f4813deb211487
DTSTAMP:20260423T041041Z
SUMMARY:TBD Sisterhood Shabbat
DESCRIPTION:Jewish Federation of the Greater San Gabriel & Pomona Valleys\n
 COMMUNITY CALENDAR\nhttps://jewishsgpv.org/calendar/tbd-sisterhood-shabbat
 \n\n
DTSTART;TZID=America/Los_Angeles:20250613T193000
DTEND;TZID=America/Los_Angeles:20250613T213000
END:VEVENT
END:VCALENDAR
