BEGIN:VCALENDAR
PRODID:-//eluceo/ical//2.0/EN
VERSION:2.0
CALSCALE:GREGORIAN
BEGIN:VEVENT
UID:916cc92f57a077a0d5d8422c3d39db92
DTSTAMP:20260420T084133Z
SUMMARY:TBD Men's Club Breakfast
DESCRIPTION:Jewish Federation of the Greater San Gabriel & Pomona Valleys\n
 COMMUNITY CALENDAR\nhttps://jewishsgpv.org/calendar/tbd-mens-club-breakfas
 t\n\nPlease join us on September 28\, 2024 at 8:30 AM for TBD Men's Club f
 or Breakfast.  \n\nYou must RSVP at vicswire@gmail.com or call 626-975-5
 235.
DTSTART;TZID=America/Los_Angeles:20240928T083000
DTEND;TZID=America/Los_Angeles:20240928T103000
END:VEVENT
END:VCALENDAR
