BEGIN:VCALENDAR
PRODID:-//eluceo/ical//2.0/EN
VERSION:2.0
CALSCALE:GREGORIAN
BEGIN:VEVENT
UID:0e0abdcae6284db7a7b63b07f81f9e31
DTSTAMP:20260421T060659Z
SUMMARY:Tanach Study with Rabbi Singer
DESCRIPTION:Jewish Federation of the Greater San Gabriel & Pomona Valleys\n
 COMMUNITY CALENDAR\nhttps://jewishsgpv.org/calendar/tanach-study-with-rabb
 i-singer\n\nTanakh Study with Rabbi Singer from Riverside Temple Beth El S
 aturdays 10-11:30 AM\, on Zoom  February 5\, 19\; March\, April\, May: TB
 A\n\nPresented by Riverside Temple Beth El \n \nRSVP by emailing office
 @tberiv.org to receive the Zoom link.
DTSTART;TZID=America/Los_Angeles:20220226T100000
DTEND;TZID=America/Los_Angeles:20220226T113000
END:VEVENT
END:VCALENDAR
