BEGIN:VCALENDAR
PRODID:-//eluceo/ical//2.0/EN
VERSION:2.0
CALSCALE:GREGORIAN
BEGIN:VEVENT
UID:7021218e2c6d1f891f1d54b8a7418fe6
DTSTAMP:20260425T021637Z
SUMMARY:"Talmud Class" - Pasadena Jewish Academy
DESCRIPTION:Jewish Federation of the Greater San Gabriel & Pomona Valleys\n
 COMMUNITY CALENDAR\nhttps://jewishsgpv.org/calendar/talmud-class-pasadena-
 jewish-academy\n\nCall (605) 313-4802 \n\n Access Code: 1067775#
DTSTART;TZID=America/Los_Angeles:20200428T190000
DTEND;TZID=America/Los_Angeles:20200428T200000
END:VEVENT
END:VCALENDAR
