BEGIN:VCALENDAR
PRODID:-//eluceo/ical//2.0/EN
VERSION:2.0
CALSCALE:GREGORIAN
BEGIN:VEVENT
UID:37588e03ecab8e4f2b7d9d97973f9ef2
DTSTAMP:20260419T155139Z
SUMMARY:Swap for Good: A Schmatta and Sefer Exchange
DESCRIPTION:Jewish Federation of the Greater San Gabriel & Pomona Valleys\n
 COMMUNITY CALENDAR\nhttps://jewishsgpv.org/calendar/swap-for-good\n\nSwap 
 for Good: A Schmatta and Sefarim Exchange\n\n \n\nOur Jewish tradition
  teaches us bal taschit: do not waste. As Earth Day draws near\, join P
 J Library and Temple Sinai of Glendale for a little tikkun olam! Bring th
 e clothes and books your kids have outgrown\, pass them on\, and take home
  something new to you!\n\nPlease\, NO clothing with pilling\, big holes\, 
 or stains.\n\n \n\n 
DTSTART;TZID=America/Los_Angeles:20260419T110000
DTEND;TZID=America/Los_Angeles:20260419T130000
END:VEVENT
END:VCALENDAR
