BEGIN:VCALENDAR
PRODID:-//eluceo/ical//2.0/EN
VERSION:2.0
CALSCALE:GREGORIAN
BEGIN:VEVENT
UID:52de84330916b81dc2a4a235ab5200ee
DTSTAMP:20260425T173058Z
SUMMARY:Survivors | Yom HaShoah Commemoration
DESCRIPTION:Jewish Federation of the Greater San Gabriel & Pomona Valleys\n
 COMMUNITY CALENDAR\nhttps://jewishsgpv.org/calendar/survivors-yom-hashoah-
 commemoration\n\nYom HaShoah Commemoration\na special staged reading by th
 e Jewish Federation’s JFed Players\n\nSURVIVORS\n\nby Jeff Stolzer\n\nAf
 ter his landlord triples the rent\, Henry Cohen\, a Polish-Jewish refugee 
 from World War II\, refuses to close his small barber shop in Los Angeles 
 and retire. Instead\, he raises prices and hires a second barber\, Isaac R
 oth\, a widower who lives in the neighborhood\, and business improves. But
  Henry’s wife Ruth\, an Auschwitz survivor originally from Romania\, gro
 ws su...
DTSTART;TZID=America/Los_Angeles:20240506T190000
DTEND;TZID=America/Los_Angeles:20240506T210000
END:VEVENT
END:VCALENDAR
