BEGIN:VCALENDAR
PRODID:-//eluceo/ical//2.0/EN
VERSION:2.0
CALSCALE:GREGORIAN
BEGIN:VEVENT
UID:0aa2c34083b18b2acd99ece031041f92
DTSTAMP:20260423T030127Z
SUMMARY:Super Bowl LIX Watch Party 2025
DESCRIPTION:Jewish Federation of the Greater San Gabriel & Pomona Valleys\n
 COMMUNITY CALENDAR\nhttps://jewishsgpv.org/calendar/super-bowl-lix-watch-p
 arty-2025\n\nJoin Temple Beth David Super Bowl LIX 2025 Watch Party on Sun
 day February 9\, 2025 at 3:00PM.\n\n \n\nBring the kids and your Friends 
 to Watch the Game. Come and hang out and nosh...\n\nBring yummy Food and D
 esserts to share.
DTSTART;TZID=America/Los_Angeles:20250209T150000
DTEND;TZID=America/Los_Angeles:20250209T200000
END:VEVENT
END:VCALENDAR
