BEGIN:VCALENDAR
PRODID:-//eluceo/ical//2.0/EN
VERSION:2.0
CALSCALE:GREGORIAN
BEGIN:VEVENT
UID:b19bbe1d82b487fc4b32aeb1739c82bb
DTSTAMP:20260426T025153Z
SUMMARY:Summer Screen Sing-a-long  & Havdallah
DESCRIPTION:Jewish Federation of the Greater San Gabriel & Pomona Valleys\n
 COMMUNITY CALENDAR\nhttps://jewishsgpv.org/calendar/summer-screen-sing-a-l
 ong-havdallah\n\nClick here to RSVP and to reserve your Havdallah Take-Hom
 e kit
DTSTART;TZID=America/Los_Angeles:20200801T183000
DTEND;TZID=America/Los_Angeles:20200801T193000
END:VEVENT
END:VCALENDAR
