BEGIN:VCALENDAR
PRODID:-//eluceo/ical//2.0/EN
VERSION:2.0
CALSCALE:GREGORIAN
BEGIN:VEVENT
UID:b0792f4ae1a5fb632d25f36bfd08057f
DTSTAMP:20260422T205554Z
SUMMARY:Summer N' S'mores Family Challenge
DESCRIPTION:Jewish Federation of the Greater San Gabriel & Pomona Valleys\n
 COMMUNITY CALENDAR\nhttps://jewishsgpv.org/calendar/summer-n-smores-family
 -challenge\n\nClick here to RSVP
DTSTART;TZID=America/Los_Angeles:20200727T000000
DTEND;TZID=America/Los_Angeles:20200727T235959
END:VEVENT
END:VCALENDAR
