BEGIN:VCALENDAR
PRODID:-//eluceo/ical//2.0/EN
VERSION:2.0
CALSCALE:GREGORIAN
BEGIN:VEVENT
UID:5292909a0ab4d23b24203602c9fbf818
DTSTAMP:20260423T191848Z
SUMMARY:Summer Camp Fair at Temple Sinai of Glendale
DESCRIPTION:Jewish Federation of the Greater San Gabriel & Pomona Valleys\n
 COMMUNITY CALENDAR\nhttps://jewishsgpv.org/calendar/summer-camp-fair-at-te
 mple-sinai-of-glendale\n\n
DTSTART;TZID=America/Los_Angeles:20250126T113000
DTEND;TZID=America/Los_Angeles:20250126T140000
END:VEVENT
END:VCALENDAR
