BEGIN:VCALENDAR
PRODID:-//eluceo/ical//2.0/EN
VERSION:2.0
CALSCALE:GREGORIAN
BEGIN:VEVENT
UID:8f9b85b37300eeab3151a1632015da05
DTSTAMP:20260422T071638Z
SUMMARY:Sukkot on Wheels Chabad
DESCRIPTION:Jewish Federation of the Greater San Gabriel & Pomona Valleys\n
 COMMUNITY CALENDAR\nhttps://jewishsgpv.org/calendar/sukkot-on-wheels-chaba
 d\n\n
DTSTART;TZID=America/Los_Angeles:20251012T100000
DTEND;TZID=America/Los_Angeles:20251012T140000
END:VEVENT
END:VCALENDAR
