BEGIN:VCALENDAR
PRODID:-//eluceo/ical//2.0/EN
VERSION:2.0
CALSCALE:GREGORIAN
BEGIN:VEVENT
UID:0c28741265e98e5a6261ceafba72ccb3
DTSTAMP:20260423T110441Z
SUMMARY:Sukkot Mobile
DESCRIPTION:Jewish Federation of the Greater San Gabriel & Pomona Valleys\n
 COMMUNITY CALENDAR\nhttps://jewishsgpv.org/calendar/sukkot-mobile-chabad-i
 e\n\n
DTSTART;TZID=America/Los_Angeles:20241023T100000
DTEND;TZID=America/Los_Angeles:20241023T150000
END:VEVENT
END:VCALENDAR
