BEGIN:VCALENDAR
PRODID:-//eluceo/ical//2.0/EN
VERSION:2.0
CALSCALE:GREGORIAN
BEGIN:VEVENT
UID:7fe803952b469a54ed1c7677b0f38155
DTSTAMP:20260420T155807Z
SUMMARY:Sukkot Mobile
DESCRIPTION:Jewish Federation of the Greater San Gabriel & Pomona Valleys\n
 COMMUNITY CALENDAR\nhttps://jewishsgpv.org/calendar/sukkot-mobile-chabad\n
 \n
DTSTART;TZID=America/Los_Angeles:20241022T100000
DTEND;TZID=America/Los_Angeles:20241022T150000
END:VEVENT
END:VCALENDAR
