BEGIN:VCALENDAR
PRODID:-//eluceo/ical//2.0/EN
VERSION:2.0
CALSCALE:GREGORIAN
BEGIN:VEVENT
UID:c00594d4f8b98c72130561044603e517
DTSTAMP:20260425T225341Z
SUMMARY:Sukkot Kiddush Lunch
DESCRIPTION:Jewish Federation of the Greater San Gabriel & Pomona Valleys\n
 COMMUNITY CALENDAR\nhttps://jewishsgpv.org/calendar/sukkot-kiddush-lunch\n
 \n
DTSTART;TZID=America/Los_Angeles:20241019T100000
DTEND;TZID=America/Los_Angeles:20241019T130000
END:VEVENT
END:VCALENDAR
