BEGIN:VCALENDAR
PRODID:-//eluceo/ical//2.0/EN
VERSION:2.0
CALSCALE:GREGORIAN
BEGIN:VEVENT
UID:bc496890d09627b2e9cd31d24efa3b31
DTSTAMP:20260419T182001Z
SUMMARY:Sukkah Mobile
DESCRIPTION:Jewish Federation of the Greater San Gabriel & Pomona Valleys\n
 COMMUNITY CALENDAR\nhttps://jewishsgpv.org/calendar/sukkah-truck\n\n
DTSTART;TZID=America/Los_Angeles:20231005T090000
DTEND;TZID=America/Los_Angeles:20231005T150000
END:VEVENT
END:VCALENDAR
