BEGIN:VCALENDAR
PRODID:-//eluceo/ical//2.0/EN
VERSION:2.0
CALSCALE:GREGORIAN
BEGIN:VEVENT
UID:83366c03f77d6de3ebadbb5e6ee7076f
DTSTAMP:20260423T124138Z
SUMMARY:Such a Library with Jill Nadler
DESCRIPTION:Jewish Federation of the Greater San Gabriel & Pomona Valleys\n
 COMMUNITY CALENDAR\nhttps://jewishsgpv.org/calendar/such-a-library\n\nClic
 k here to RSVP
DTSTART;TZID=America/Los_Angeles:20210110T150000
DTEND;TZID=America/Los_Angeles:20210110T160000
END:VEVENT
END:VCALENDAR
