BEGIN:VCALENDAR
PRODID:-//eluceo/ical//2.0/EN
VERSION:2.0
CALSCALE:GREGORIAN
BEGIN:VEVENT
UID:be73c57f38909d3a3fa3c403ec533169
DTSTAMP:20260420T125115Z
SUMMARY:Storytime with Kayla and Kugel
DESCRIPTION:Jewish Federation of the Greater San Gabriel & Pomona Valleys\n
 COMMUNITY CALENDAR\nhttps://jewishsgpv.org/calendar/storytime-with-kayla-a
 nd-kugel\n\n
DTSTART;TZID=America/Los_Angeles:20211205T110000
DTEND;TZID=America/Los_Angeles:20211205T120000
END:VEVENT
END:VCALENDAR
