BEGIN:VCALENDAR
PRODID:-//eluceo/ical//2.0/EN
VERSION:2.0
CALSCALE:GREGORIAN
BEGIN:VEVENT
UID:6d074d2001e0d53f8125377ef4668aba
DTSTAMP:20260425T020239Z
SUMMARY:Special Shabbat Service with The Nextdoors and Rabbi Ira
DESCRIPTION:Jewish Federation of the Greater San Gabriel & Pomona Valleys\n
 COMMUNITY CALENDAR\nhttps://jewishsgpv.org/calendar/special-shabbat-servic
 e-with-the-nextdoor\n\n
DTSTART;TZID=America/Los_Angeles:20260529T193000
DTEND;TZID=America/Los_Angeles:20260529T213000
END:VEVENT
END:VCALENDAR
