BEGIN:VCALENDAR
PRODID:-//eluceo/ical//2.0/EN
VERSION:2.0
CALSCALE:GREGORIAN
BEGIN:VEVENT
UID:8d4d6c0e085978e5ea6d7cf9103ca6ab
DTSTAMP:20260424T052318Z
SUMMARY:Shabbat Service
DESCRIPTION:Jewish Federation of the Greater San Gabriel & Pomona Valleys\n
 COMMUNITY CALENDAR\nhttps://jewishsgpv.org/calendar/special-shabbat-servic
 e\n\n
DTSTART;TZID=America/Los_Angeles:20251212T193000
DTEND;TZID=America/Los_Angeles:20251212T213000
END:VEVENT
END:VCALENDAR
