BEGIN:VCALENDAR
PRODID:-//eluceo/ical//2.0/EN
VERSION:2.0
CALSCALE:GREGORIAN
BEGIN:VEVENT
UID:1c034e5592d6e32d53c6acdf78ed3d7a
DTSTAMP:20260421T034008Z
SUMMARY:Spa for the Soul Chabad
DESCRIPTION:Jewish Federation of the Greater San Gabriel & Pomona Valleys\n
 COMMUNITY CALENDAR\nhttps://jewishsgpv.org/calendar/spa-for-the-soul-chaba
 d-ie\n\n
DTSTART;TZID=America/Los_Angeles:20250126T100000
DTEND;TZID=America/Los_Angeles:20250126T120000
END:VEVENT
END:VCALENDAR
