BEGIN:VCALENDAR
PRODID:-//eluceo/ical//2.0/EN
VERSION:2.0
CALSCALE:GREGORIAN
BEGIN:VEVENT
UID:eb841ae8338231541e742b587527406b
DTSTAMP:20260423T225935Z
SUMMARY:Spa for the Soul
DESCRIPTION:Jewish Federation of the Greater San Gabriel & Pomona Valleys\n
 COMMUNITY CALENDAR\nhttps://jewishsgpv.org/calendar/spa-for-the-soul\n\n
DTSTART;TZID=America/Los_Angeles:20230129T000000
DTEND;TZID=America/Los_Angeles:20230129T150000
END:VEVENT
END:VCALENDAR
