BEGIN:VCALENDAR
PRODID:-//eluceo/ical//2.0/EN
VERSION:2.0
CALSCALE:GREGORIAN
BEGIN:VEVENT
UID:06acde907fe8d69f495c9b930d4f3cd7
DTSTAMP:20260424T002951Z
SUMMARY:Social Justice: The Heart of Judaism in Theory and Practice
DESCRIPTION:Jewish Federation of the Greater San Gabriel & Pomona Valleys\n
 COMMUNITY CALENDAR\nhttps://jewishsgpv.org/calendar/social-justice\n\nINST
 RUCTOR: Rabbi John Carrier\n\n \n\n10 Session on Tusedays\n\nMarch 29-May
  31\, 2022\n\n7:30-9:00 pm Pacific Time\n\nZOOM CLASSROOM (limited to 25 s
 tudents)\n\n \n\nTUITION: $295 (Includes Melton Student Reader) Scholarsh
 ips available-contact melton@pjtc.org for more information\n\nREGISTER AT:
  www.meltonschool.org\n\nConfronting wrongs and instigating systemic chang
 e is no small order — but it’s an essential Jewish pursuit. This 10-pa
 rt course highlights the Jewish call to action and...
DTSTART;TZID=America/Los_Angeles:20220329T193000
DTEND;TZID=America/Los_Angeles:20220329T210000
END:VEVENT
END:VCALENDAR
