BEGIN:VCALENDAR
PRODID:-//eluceo/ical//2.0/EN
VERSION:2.0
CALSCALE:GREGORIAN
BEGIN:VEVENT
UID:2177b78651f4cd9e0e3ef0da951ae599
DTSTAMP:20260424T000343Z
SUMMARY:So you want to own a comedy club?
DESCRIPTION:Jewish Federation of the Greater San Gabriel & Pomona Valleys\n
 COMMUNITY CALENDAR\nhttps://jewishsgpv.org/calendar/so-you-want-to-own-a-c
 omedy-club\n\nClick here to RSVP
DTSTART;TZID=America/Los_Angeles:20200826T193000
DTEND;TZID=America/Los_Angeles:20200826T210000
END:VEVENT
END:VCALENDAR
