BEGIN:VCALENDAR
PRODID:-//eluceo/ical//2.0/EN
VERSION:2.0
CALSCALE:GREGORIAN
BEGIN:VEVENT
UID:d2b4e0c64052e7b1dc012d745c51f288
DTSTAMP:20260419T143433Z
SUMMARY:Sisterhood Latke Mix at Temple Beth David
DESCRIPTION:Jewish Federation of the Greater San Gabriel & Pomona Valleys\n
 COMMUNITY CALENDAR\nhttps://jewishsgpv.org/calendar/sisterhood-latke-mix\n
 \nIt is that time again!!  Please order your Sisterhood Latke Mix by Dece
 mber 12\, 2024.\n\nOrders may be emailed to tbdsisterhood18@gmail.com\n\nP
 ick up will be on December 15\, 2024 from 9:30AM - 12:30PM.\n\n \n\n\n\n
  
DTSTART;TZID=America/Los_Angeles:20241215T093000
DTEND;TZID=America/Los_Angeles:20241215T123000
END:VEVENT
END:VCALENDAR
