BEGIN:VCALENDAR
PRODID:-//eluceo/ical//2.0/EN
VERSION:2.0
CALSCALE:GREGORIAN
BEGIN:VEVENT
UID:c6ae599be6703df9faf2b3153d7534ca
DTSTAMP:20260424T034915Z
SUMMARY:Shofar Blast
DESCRIPTION:Jewish Federation of the Greater San Gabriel & Pomona Valleys\n
 COMMUNITY CALENDAR\nhttps://jewishsgpv.org/calendar/shofar-blast\n\n
DTSTART;TZID=America/Los_Angeles:20230917T110000
DTEND;TZID=America/Los_Angeles:20230917T120000
END:VEVENT
END:VCALENDAR
