BEGIN:VCALENDAR
PRODID:-//eluceo/ical//2.0/EN
VERSION:2.0
CALSCALE:GREGORIAN
BEGIN:VEVENT
UID:db4aa49a66b62793c02e3ecf7d0dde25
DTSTAMP:20260424T064040Z
SUMMARY:Shir Delights XI
DESCRIPTION:Jewish Federation of the Greater San Gabriel & Pomona Valleys\n
 COMMUNITY CALENDAR\nhttps://jewishsgpv.org/calendar/shir-delights-xi\n\nCl
 ick here to register
DTSTART;TZID=America/Los_Angeles:20210530T190000
DTEND;TZID=America/Los_Angeles:20210530T203000
END:VEVENT
END:VCALENDAR
