BEGIN:VCALENDAR
PRODID:-//eluceo/ical//2.0/EN
VERSION:2.0
CALSCALE:GREGORIAN
BEGIN:VEVENT
UID:1f9bf0fbd14319dc7e632613dccda224
DTSTAMP:20260424T035546Z
SUMMARY:Shavuot with Temple Beth David
DESCRIPTION:Jewish Federation of the Greater San Gabriel & Pomona Valleys\n
 COMMUNITY CALENDAR\nhttps://jewishsgpv.org/calendar/shavuot-with\n\nJoin u
 s for learning and celebration in honor of Shavuot! We'll have stories\, c
 rafts\, and ice cream to celebrate.
DTSTART;TZID=America/Los_Angeles:20260517T100000
DTEND;TZID=America/Los_Angeles:20260517T120000
END:VEVENT
END:VCALENDAR
