BEGIN:VCALENDAR
PRODID:-//eluceo/ical//2.0/EN
VERSION:2.0
CALSCALE:GREGORIAN
BEGIN:VEVENT
UID:12e0a27558a94986ce4f470bc23962ab
DTSTAMP:20260420T141221Z
SUMMARY:Shavuot Morning Service
DESCRIPTION:Jewish Federation of the Greater San Gabriel & Pomona Valleys\n
 COMMUNITY CALENDAR\nhttps://jewishsgpv.org/calendar/shavuot-morning-servic
 e\n\nShavuot Services at PJTC\n\nMonday\, May 17 at 9:30am  |  Tuesday\
 , May 18 at 9:30am\n\nPJTC Members will be provided a Zoom link to join se
 rvices. Non-PJTC Members may join in via live stream on any of the below 
 platforms:\n\nFacebook  |  YouTube  |  StreamSpot\n\nHaving troubl
 e connecting via live stream? Check out this online tech troubleshooting 
 guide.
DTSTART;TZID=America/Los_Angeles:20210517T093000
DTEND;TZID=America/Los_Angeles:20210517T123000
END:VEVENT
END:VCALENDAR
