BEGIN:VCALENDAR
PRODID:-//eluceo/ical//2.0/EN
VERSION:2.0
CALSCALE:GREGORIAN
BEGIN:VEVENT
UID:3de212f76d881dcd65b186221448b9d7
DTSTAMP:20260425T140439Z
SUMMARY:Shabbat Services Live Streamed - PJTC
DESCRIPTION:Jewish Federation of the Greater San Gabriel & Pomona Valleys\n
 COMMUNITY CALENDAR\nhttps://jewishsgpv.org/calendar/shabbat-services-live-
 streamed-pjtc\n\nShabbat Services Live Streamed - PJTC\n\n \n\nVisit www.
 pjtc.net for details
DTSTART;TZID=America/Los_Angeles:20201003T093000
DTEND;TZID=America/Los_Angeles:20201003T120000
END:VEVENT
END:VCALENDAR
