BEGIN:VCALENDAR
PRODID:-//eluceo/ical//2.0/EN
VERSION:2.0
CALSCALE:GREGORIAN
BEGIN:VEVENT
UID:23a5013fba63376a1dfb2046da3e8bd7
DTSTAMP:20260422T225938Z
SUMMARY:Rabbi Ira and New TBD Choir Member & Congregant Alan Simpson
DESCRIPTION:Jewish Federation of the Greater San Gabriel & Pomona Valleys\n
 COMMUNITY CALENDAR\nhttps://jewishsgpv.org/calendar/shabbat-service-with-r
 abbi-ira-and\n\nShabbat Service with Rabbi Ira & New TBD Congregant Alan S
 impson.
DTSTART;TZID=America/Los_Angeles:20250228T193000
DTEND;TZID=America/Los_Angeles:20250228T213000
END:VEVENT
END:VCALENDAR
