BEGIN:VCALENDAR
PRODID:-//eluceo/ical//2.0/EN
VERSION:2.0
CALSCALE:GREGORIAN
BEGIN:VEVENT
UID:e08a6c100a4e6a69f0a2b393c401e565
DTSTAMP:20260424T220019Z
SUMMARY:Shabbat Service with Cantor Beth joins Rabbi Ira
DESCRIPTION:Jewish Federation of the Greater San Gabriel & Pomona Valleys\n
 COMMUNITY CALENDAR\nhttps://jewishsgpv.org/calendar/shabbat-service-with-c
 antor-beth\n\nJoin us for Shabbat Service with Cantor Beth & Rabbi Ira at 
 7:30PM.  
DTSTART;TZID=America/Los_Angeles:20250110T193000
DTEND;TZID=America/Los_Angeles:20250110T213000
END:VEVENT
END:VCALENDAR
