BEGIN:VCALENDAR
PRODID:-//eluceo/ical//2.0/EN
VERSION:2.0
CALSCALE:GREGORIAN
BEGIN:VEVENT
UID:a28515e38174fc41371e9ead92f0c0a3
DTSTAMP:20260421T061823Z
SUMMARY:Shabbat Service - Temple Sinai of Glendale
DESCRIPTION:Jewish Federation of the Greater San Gabriel & Pomona Valleys\n
 COMMUNITY CALENDAR\nhttps://jewishsgpv.org/calendar/shabbat-service-temple
 -sinai-of-glendale\n\nJoin Temple Sinai of Glendale for their online Shabb
 at Service\, every Friday at 7 pm. \n\nClick here to join 
DTSTART;TZID=America/Los_Angeles:20200327T190000
DTEND;TZID=America/Los_Angeles:20200327T200000
END:VEVENT
END:VCALENDAR
