BEGIN:VCALENDAR
PRODID:-//eluceo/ical//2.0/EN
VERSION:2.0
CALSCALE:GREGORIAN
BEGIN:VEVENT
UID:30086cd4a7e3c7c59ce6a98004aa68af
DTSTAMP:20260421T034804Z
SUMMARY:Shabbat Service - Temple Beth Israel of Pomona
DESCRIPTION:Jewish Federation of the Greater San Gabriel & Pomona Valleys\n
 COMMUNITY CALENDAR\nhttps://jewishsgpv.org/calendar/shabbat-service-temple
 -beth-israel-of-pomona\n\nJoin Temple Beth Israel of Pomona for their onli
 ne Shabbat Service\, every Friday at 7:30 pm\n\nClick here to join\n\n 
DTSTART;TZID=America/Los_Angeles:20200327T193000
DTEND;TZID=America/Los_Angeles:20200327T203000
END:VEVENT
END:VCALENDAR
