BEGIN:VCALENDAR
PRODID:-//eluceo/ical//2.0/EN
VERSION:2.0
CALSCALE:GREGORIAN
BEGIN:VEVENT
UID:4cb29d743ceb6597dbb7d361d45272b4
DTSTAMP:20260420T074533Z
SUMMARY:Shabbat Service - Temple Beth Israel of HP & ER
DESCRIPTION:Jewish Federation of the Greater San Gabriel & Pomona Valleys\n
 COMMUNITY CALENDAR\nhttps://jewishsgpv.org/calendar/shabbat-service-temple
 -beth-israel-of-hp-er\n\nJoin Temple Beth Israel of Highland Park and Eagl
 e Rock for their online Shabbat Services\, every Saturday at 10:15 am.\n\n
 Click here to join
DTSTART;TZID=America/Los_Angeles:20200328T101500
DTEND;TZID=America/Los_Angeles:20200328T120000
END:VEVENT
END:VCALENDAR
