BEGIN:VCALENDAR
PRODID:-//eluceo/ical//2.0/EN
VERSION:2.0
CALSCALE:GREGORIAN
BEGIN:VEVENT
UID:ed2c2bc32d6c86cff78da7bf4d8d98c5
DTSTAMP:20260419T181850Z
SUMMARY:Shabbat Service - Temple Beth David
DESCRIPTION:Jewish Federation of the Greater San Gabriel & Pomona Valleys\n
 COMMUNITY CALENDAR\nhttps://jewishsgpv.org/calendar/shabbat-service-temple
 -beth-david\n\nJoin Temple Beth David for their online Shabbat Service eve
 ry Friday at 7:30 pm. \n\nClick here to join\n\n 
DTSTART;TZID=America/Los_Angeles:20200327T193000
DTEND;TZID=America/Los_Angeles:20200327T203000
END:VEVENT
END:VCALENDAR
