BEGIN:VCALENDAR
PRODID:-//eluceo/ical//2.0/EN
VERSION:2.0
CALSCALE:GREGORIAN
BEGIN:VEVENT
UID:6b8bfa9e546dedaa6e70222dcc384830
DTSTAMP:20260420T171547Z
SUMMARY:Shabbat Service - Pasadena Jewish Temple and Center
DESCRIPTION:Jewish Federation of the Greater San Gabriel & Pomona Valleys\n
 COMMUNITY CALENDAR\nhttps://jewishsgpv.org/calendar/shabbat-service-pasade
 na-jewish-temple-and-center\n\nJoin Pasadena Jewish Temple & Center's cler
 gy for online Shabbath Services. Fridays at 7:30 pm\n\nClic here to join
DTSTART;TZID=America/Los_Angeles:20200327T193000
DTEND;TZID=America/Los_Angeles:20200327T203000
END:VEVENT
END:VCALENDAR
