BEGIN:VCALENDAR
PRODID:-//eluceo/ical//2.0/EN
VERSION:2.0
CALSCALE:GREGORIAN
BEGIN:VEVENT
UID:4e1bd6f9fded4c863372962557f39d34
DTSTAMP:20260425T020251Z
SUMMARY:Shabbat Service Honoring for Mother's Day & Mental Health Awareness
DESCRIPTION:Jewish Federation of the Greater San Gabriel & Pomona Valleys\n
 COMMUNITY CALENDAR\nhttps://jewishsgpv.org/calendar/shabbat-service-honori
 ng-for-mothers\n\n
DTSTART;TZID=America/Los_Angeles:20260508T193000
DTEND;TZID=America/Los_Angeles:20260508T213000
END:VEVENT
END:VCALENDAR
