BEGIN:VCALENDAR
PRODID:-//eluceo/ical//2.0/EN
VERSION:2.0
CALSCALE:GREGORIAN
BEGIN:VEVENT
UID:44c715fef0ca6e76e3c71b94ac64df66
DTSTAMP:20260422T183906Z
SUMMARY:Shabbat Dinner for Community
DESCRIPTION:Jewish Federation of the Greater San Gabriel & Pomona Valleys\n
 COMMUNITY CALENDAR\nhttps://jewishsgpv.org/calendar/shabbat-service-for-ne
 w-members\n\n
DTSTART;TZID=America/Los_Angeles:20250516T180000
DTEND;TZID=America/Los_Angeles:20250516T210000
END:VEVENT
END:VCALENDAR
