BEGIN:VCALENDAR
PRODID:-//eluceo/ical//2.0/EN
VERSION:2.0
CALSCALE:GREGORIAN
BEGIN:VEVENT
UID:b38e55529dadd1554859efa6af95643d
DTSTAMP:20260420T065608Z
SUMMARY:Shabbat - Saturday services at Temple Sholom of Ontario
DESCRIPTION:Jewish Federation of the Greater San Gabriel & Pomona Valleys\n
 COMMUNITY CALENDAR\nhttps://jewishsgpv.org/calendar/shabbat-saturday-servi
 ces\n\nJoin Temple Sholom of Ontario every Saturday morning for Shabbat se
 rvices via Zoom \n\nEvery week on Saturday\n\nTime: 10:00 AM Pacific Tim
 e (US and Canada)\n        Every week on Sat\, until Aug 29\, 2020\
 n\nJoin Zoom Meeting\nhttps://zoom.us/j/99991352035?pwd=Y0lBVEVXRytER0lHNT
 U3VG9vM0Z4UT09\n\nMeeting ID: 999 9135 2035                 
                                           
                                     ...
DTSTART;TZID=America/Los_Angeles:20200530T100000
DTEND;TZID=America/Los_Angeles:20200530T120000
END:VEVENT
END:VCALENDAR
