BEGIN:VCALENDAR
PRODID:-//eluceo/ical//2.0/EN
VERSION:2.0
CALSCALE:GREGORIAN
BEGIN:VEVENT
UID:6a94e482e98e2cffeeac815fbc13e4b8
DTSTAMP:20260424T064716Z
SUMMARY:Shabbat Morning Service at TBI HP & ER
DESCRIPTION:Jewish Federation of the Greater San Gabriel & Pomona Valleys\n
 COMMUNITY CALENDAR\nhttps://jewishsgpv.org/calendar/shabbat-morning-servic
 e-at-tbi-hp-er\n\nCome enjoy services led by Cantor Ken Rothstein and our 
 members. We have been holding Saturday services every week since 1930. \n
 \nThe best way to reach us is by e-mail at admin@tbila.org. Your message w
 ill be read by our staff\, who will forward it to the right point of conta
 ct. \n\nYou can also reach us by phone at (323) 745-2474\, though not on 
 Shabbat and holidays. Feel free to leave us a message and we'll be sure to
  get back to you as soon as we can. 
DTSTART;TZID=America/Los_Angeles:20210213T101500
DTEND;TZID=America/Los_Angeles:20210213T120000
END:VEVENT
END:VCALENDAR
